BEGIN:VCALENDAR
VERSION:2.0
PRODID:-//eventon.com NONSGML v1.0//EN
BEGIN:VEVENT
UID:69e9b0e562124
DTSTAMP:20260423T074053
DTSTART:20230314T080000Z
DTEND:20230317T150000Z
TZID:Europe/Copenhagen
LOCATION:
SUMMARY:STUDIETUR: Bæredygtighed\,  ESG og Verdensmål i Grønland – uddannelse 2023
DESCRIPTION: Bemærk nye datoer! Bliv uddannet til at drive og lede organisationens arbejde med Verdensmålene\,  ESG og bæredygtighed! Efterspørgsel efter bæredygtighedskompetence har aldrig været højere i Grønland – både blandt virksomheder og offentlige organisationer. Uddannelsen er designet til dig lige meget om du er i en virksomhed\,  i Selvstyret eller kommunerne[..]\nhttps://csr.gl/events/studietur-baeredygtighed-esg-og-verdensmaal-i-groenland-uddannelse-2023/
URL:https://csr.gl/events/studietur-baeredygtighed-esg-og-verdensmaal-i-groenland-uddannelse-2023/
END:VEVENT
END:VCALENDAR