BEGIN:VCALENDAR
VERSION:2.0
PRODID:-//eventon.com NONSGML v1.0//EN
BEGIN:VEVENT
UID:69e9b28315c7a
DTSTAMP:20260423T074747
DTSTART:20230314T200000Z
DTEND:20230318T030000Z
TZID:Pacific/Midway
LOCATION:
SUMMARY:PAASISASSARSIORLUNI ANGALANEQ: PIUJUARTITSINEQ\,  ESG AAMMALU NUNARSUAQ TAMAKKERLUGU ANGUNIAKKAT KALAALLIT NUNAANNI – PIKKORISSARNEQ 2023
DESCRIPTION: Malugiuk ulluliussat nutaat! Suliffeqarfimmi suliniutit nunarsuaq tamakkerlugu anguniakkanut\,  ESG-mut aammalu piujuartitsinermut sammivillit aqutsisuuffiginissaanut pikkorissarit! Piujuartitsinermut suliniutinik aqutsinissamut piginnaasaqartunik – suliffeqarfiit akornanni aammalu pisortat suliffeqarfiutaanni sulisoqarnissaq aatsaat taama Kalaallit Nunaanni ersaritsigisumik inuttassarsiuunneqartalerpoq. Pikkorissarneq una illit massakkut suliffigisanni\,  Namminersorlutik Oqartussani kommunemi imaluunniit kattuffimmi atorfeqartuusumut naleqqussarlugu ilusilersugaavoq. Ullut qulingiluat ingerlanerini teori aallaavigalugu ataatsimoortumik[..]\nhttps://csr.gl/events/studietur-baeredygtighed-esg-og-verdensmaal-i-groenland-uddannelse-2023/
URL:https://csr.gl/events/studietur-baeredygtighed-esg-og-verdensmaal-i-groenland-uddannelse-2023/
END:VEVENT
END:VCALENDAR