BEGIN:VCALENDAR
VERSION:2.0
PRODID:-//eventon.com NONSGML v1.0//EN
BEGIN:VEVENT
UID:69e982e703e68
DTSTAMP:20260423T042439
DTSTART:20230322T180000Z
DTEND:20230322T190000Z
TZID:America/Godthab
LOCATION:CSR Greenland Jens Kreutzmannip Aqq. 3
SUMMARY:Indkaldelse til ordinær generalforsamling
DESCRIPTION: CSR Greenland indkalder til ordinær generalforsamling\,  som afholdes: Onsdag den 22. marts 2023 Kl. 15.00-16.00 Sted: Jens Kreutzmannip Aqq. 3 og Online Frist for indsendelse af forslag til dagsorden: Onsdag den 8. marts 2023\,  kl. 12.00\,  Forslag kan indsendes til: csr@csr.gl\nhttps://csr.gl/events/indkaldelse-til-ordinaer-generalforsamling/
URL:https://csr.gl/events/indkaldelse-til-ordinaer-generalforsamling/
END:VEVENT
END:VCALENDAR