BEGIN:VCALENDAR
VERSION:2.0
PRODID:-//eventon.com NONSGML v1.0//EN
BEGIN:VEVENT
UID:69e999e0a69ec
DTSTAMP:20260423T060240
DTSTART:20230322T180000Z
DTEND:20230322T190000Z
TZID:America/Godthab
LOCATION:CSR Greenland Jens Kreutzmannip Aqq. 3
SUMMARY:Ataatsimeersuarnissaminut aggersaaneq
DESCRIPTION: CSR Greenland ileqquusumik ataatsimeersuarnissaminut aggersaavoq\,  ullormi ataani nalunaarutigineqartumi ingerlanneqartussamut: Pingasunngorneq 22. marts 2023 Nal. 15.00-16.00 Uani: Jens Kreutzmannip Aqq. 3\,  aammalu Online-kut Oqaluuserisassanut siunnersuutit tiguneqareersimassapput: Pingasunngorneq 8. marts 2023\,  nal. 12.00 Uunga nassiunneqassapput: csr@csr.gl\nhttps://csr.gl/events/indkaldelse-til-ordinaer-generalforsamling/
URL:https://csr.gl/events/indkaldelse-til-ordinaer-generalforsamling/
END:VEVENT
END:VCALENDAR