BEGIN:VCALENDAR
VERSION:2.0
PRODID:-//eventon.com NONSGML v1.0//EN
BEGIN:VEVENT
UID:69e96b2c65505
DTSTAMP:20260423T024324
DTSTART:20230502T110000Z
DTEND:20230503T180000Z
TZID:America/Godthab
LOCATION:CSR Greenland Jens Kreutzmannip Aqq. 3
SUMMARY:Klimaklar!
DESCRIPTION: Forstå hvordan du håndterer klima-dagsordenen i din organisation Grønland er på vej ind i Paris-aftalen og det kommer til at have betydning for mange dele af samfundet. Derfor er det nyttigt som leder\,  bestyrelsesmedlem eller beslutningstager at have styr på klima-dagsordenen\,  kende fakta og hvad der forventes af virksomheden. På[..]\nhttps://csr.gl/events/klimaklar/
URL:https://csr.gl/events/klimaklar/
END:VEVENT
END:VCALENDAR