BEGIN:VCALENDAR
VERSION:2.0
PRODID:-//eventon.com NONSGML v1.0//EN
BEGIN:VEVENT
UID:69e982b7f2441
DTSTAMP:20260423T042351
DTSTART:20230502T110000Z
DTEND:20230503T180000Z
TZID:America/Godthab
LOCATION:CSR Greenland Jens Kreutzmannip Aqq. 3
SUMMARY:Silap pissusaanik sammisaqarnissamut piareerit!
DESCRIPTION: Silap pissusaanut sammisat pillugit suliffigisanni iliuusissasi paasisaqarfigikkit Kalaallit Nunaat Paris-mik isumaqatigiissummut peqataanissaminut piareersarpoq\,  tamannalu inuiaqatigiinni assigiinngitsorpassuartigut sunniuteqartussaavoq. Taamaattumik pisortatut\,  siulersuisuni ilaasortatut imaluunniit aalajangiisartutut inissisimaffeqaraanni silap pissusaanut sammisat pillugit iliuusissat\,  paasissutissat kiisalu suliffeqarfimmut piumasaqaataasinnaasut ilisimasaqarfiginissai pingaaruteqarpoq. ’Silap pissussaanik sammisaqarnissamut piareerit’ pillugu ullut marluk ingerlanerini suliffeqarfissinni silap pissusaanut ilissi iliuuserisinnaasasi pillugut ilinniartinneqassaasi.[..]\nhttps://csr.gl/events/klimaklar/
URL:https://csr.gl/events/klimaklar/
END:VEVENT
END:VCALENDAR