BEGIN:VCALENDAR
VERSION:2.0
PRODID:-//eventon.com NONSGML v1.0//EN
BEGIN:VEVENT
UID:69e96b69527a7
DTSTAMP:20260423T024425
DTSTART:20230608T143000Z
DTEND:20230608T163000Z
TZID:America/Godthab
LOCATION:
SUMMARY:Nuuk Saligaatsoq 2023
DESCRIPTION: Nuummi Saligaatsoq 2023 ingerlanneqarnissaanut ulloq juunip arfineq-pingajuannut inissinneqarpoq Learn more toorlugu programmi atuarneqarsinnaavoq. Peqataanissamut nalunaarfissaq: http://eepurl.com/cKUfJD Saliiffissamik uani toqqaagit\nhttps://csr.gl/events/nuuk-saligaatsoq-2023/
URL:https://csr.gl/events/nuuk-saligaatsoq-2023/
END:VEVENT
END:VCALENDAR