BEGIN:VCALENDAR
VERSION:2.0
PRODID:-//eventon.com NONSGML v1.0//EN
BEGIN:VEVENT
UID:69e950e09ca33
DTSTAMP:20260423T005112
DTSTART:20230608
DTEND:20230608
TZID:America/Godthab
LOCATION:
SUMMARY:Aasiaat Saligaatsoq 2023
DESCRIPTION: AASIANNI SALIGAATSOQ 2023 INGERLANNEQARNISSAANUT ULLOQ JUUNIP ARFINEQ-PINGAJUANNUT INISSINNEQARALLARPOQ Aasianni saliisitsinissamut Qeqertalik Business Council A/S ataqatigiissaarisuuvoq. Attavigisassaq: Karl Villiam Jeremiassen\,  Project Manager\,  Destination Diskobay A/S\,  Qeqertalik Business Council projekt@qbc.gl tel.: +299 52 39 51 Aasianni Stark puussiarsuarnik aaqqateralaanillu tapersiivoq. &nbsp; Suleqataanissamut soqutiginnittut Learn more toorlugu paasisaqarnerusinnaapput.\nhttps://csr.gl/events/aasiaat-saligaatsoq-2023/
URL:https://csr.gl/events/aasiaat-saligaatsoq-2023/
END:VEVENT
END:VCALENDAR