BEGIN:VCALENDAR
VERSION:2.0
PRODID:-//eventon.com NONSGML v1.0//EN
BEGIN:VEVENT
UID:69e9379542771
DTSTAMP:20260422T230317
DTSTART:20230601T020000Z
DTEND:20230701T015900Z
TZID:America/Godthab
LOCATION:
SUMMARY:Paamiut Saligaatsoq 2023
DESCRIPTION: Paamiuni Saligaatsoq ingerlanneqassaaq junimi septembarimilu. Attavigisassaq tassaavoq: Heidi Jeremiassen\,  Paamiuni Innuttaasunut Kiffartuussivimmi Områdechef\,  email: heja@sermersooq.gl Learn more toorlugu qanoq suleqataasoqarsinnaanersoq atuarsinnaavat.\nhttps://csr.gl/events/paamiut-saligaatsoq-2023/
URL:https://csr.gl/events/paamiut-saligaatsoq-2023/
END:VEVENT
END:VCALENDAR