BEGIN:VCALENDAR
VERSION:2.0
PRODID:-//eventon.com NONSGML v1.0//EN
BEGIN:VEVENT
UID:69e9264db5d08
DTSTAMP:20260422T214933
DTSTART:20230901T020000Z
DTEND:20231001T015900Z
TZID:America/Godthab
LOCATION:
SUMMARY:Paamiut Saligaatsoq 2023
DESCRIPTION: Paamiuni Saligaatsoq ingerlanneqassaaq junimi septembarimilu. Attavigisassaq tassaavoq: Heidi Jeremiassen\,  Paamiuni Innuttaasunut Kiffartuussivimmi Områdechef\,  email: heja@sermersooq.gl Learn more toorlugu qanoq suleqataasoqarsinnaanersoq atuarsinnaavat.\nhttps://csr.gl/events/paamiut-saligaatsoq-2023-2/
URL:https://csr.gl/events/paamiut-saligaatsoq-2023-2/
END:VEVENT
END:VCALENDAR