BEGIN:VCALENDAR
VERSION:2.0
PRODID:-//eventon.com NONSGML v1.0//EN
BEGIN:VEVENT
UID:69e90d66b6b1c
DTSTAMP:20260422T200318
DTSTART:20230525
DTEND:20230525
TZID:America/Godthab
LOCATION:
SUMMARY:Qeqertarsuaq Saligaatsoq 2023
DESCRIPTION: I Qeqertarsuaq bliver Saligaatsoq afholdt ca. den 25. maj. Kontaktpersonen er: Najattaannguaq Mølgaard\,  Afdelingsleder Inoqarfik\,  Kommune Qeqertalik\,  email: naml@qeqertalik.gl Ved at trykke på Learn more kan man se hvordan man kan deltage i samarbejdet.\nhttps://csr.gl/events/qeqertarsuaq-saligaatsoq-2023/
URL:https://csr.gl/events/qeqertarsuaq-saligaatsoq-2023/
END:VEVENT
END:VCALENDAR