BEGIN:VCALENDAR
VERSION:2.0
PRODID:-//eventon.com NONSGML v1.0//EN
BEGIN:VEVENT
UID:69e8f1521bf52
DTSTAMP:20260422T180330
DTSTART:20230517T180000Z
DTEND:20230517T210000Z
TZID:America/Godthab
LOCATION:
SUMMARY:Tasiilaq Saligaatsoq 2023
DESCRIPTION: Tasiilami Najukkami Ataatsimiititaliap saliisitsinissamut ataqatigiissaarisuuvoq. Attavigisassaq: Marie Heimer\,  Najukkami Ataatsimiititaliamut ataqatigiissaarisoq\,  email: mhei@sermersooq.gl Tasiilami Stark puussiarsuarnik aaqqateralaanillu tapersiivoq. Suleqataanissamut soqutiginnittut Learn more toorlugu paasisaqarnerusinnaapput.\nhttps://csr.gl/events/tasiilaq-saligaatsoq-2023/
URL:https://csr.gl/events/tasiilaq-saligaatsoq-2023/
END:VEVENT
END:VCALENDAR