BEGIN:VCALENDAR
VERSION:2.0
PRODID:-//eventon.com NONSGML v1.0//EN
BEGIN:VEVENT
UID:69eb2ea746a20
DTSTAMP:20260424T104943
DTSTART:20230810
DTEND:20230810
TZID:America/Godthab
LOCATION:
SUMMARY:Ittoqqortoormiit Saligaatsoq 2023
DESCRIPTION: Lokaludvalget i Ittoqqortoormiit er tovholder for oprydningsdagen i Ittoqqortoormiit. Kontaktpersonen er: Gudmund Josvassen\,  email: gjos@sermersooq.gl\,  mobil: 27 87 45 Interesserede for samarbejde kan læse mere ved at trykke på Learn more\nhttps://csr.gl/events/ittoqqortoormiit-saligaatsoq-2023/
URL:https://csr.gl/events/ittoqqortoormiit-saligaatsoq-2023/
END:VEVENT
END:VCALENDAR