BEGIN:VCALENDAR
VERSION:2.0
PRODID:-//eventon.com NONSGML v1.0//EN
BEGIN:VEVENT
UID:69e893693923a
DTSTAMP:20260422T112249
DTSTART:20230506T130000Z
DTEND:20230506T160000Z
TZID:America/Godthab
LOCATION:
SUMMARY:Qaqortoq Saligaatsoq 2023
DESCRIPTION: 🚨♻️ Oprydningsdag – Qaqortoq ♻️🚨 Brugseni Qaqortoq afholder oprydning i byen lørdag den 6. maj kl. 11-14. I år bliver dette gjort i samarbejde med Kommune Kujalleq og CSR-greenland. ‼️Kom og gør en forskel for lokalmiljøet i byen og deltag i lodtrækning om gavekort til Brugseni.‼️ Oprydningen starter ved Brugseni kl. 11[..]\nhttps://csr.gl/events/qaqortoq-saligaatsoq-2023/
URL:https://csr.gl/events/qaqortoq-saligaatsoq-2023/
END:VEVENT
END:VCALENDAR