BEGIN:VCALENDAR
VERSION:2.0
PRODID:-//eventon.com NONSGML v1.0//EN
BEGIN:VEVENT
UID:69e5b1981d50e
DTSTAMP:20260420T065448
DTSTART:20230614T120000Z
DTEND:20230614T170000Z
TZID:America/Godthab
LOCATION:
SUMMARY:Qasigiannguit Saligaatsoq 2023
DESCRIPTION: Kommune Qeqertalik saliisitsinermut ataqatigiissaarisuuvoq Qasigiannguani innuttaasut\,  suliffeqarfiit peqatigiiffillu ataatsimut saleersuarnissamut illoqarfitsinni kaammattorneqarput. Saligaatsoq ukioq manna CSR Greenland suleqatigalugu\,  Kommune Qeqertalik Qasigiannguaniit ataqatigiissarneqarpoq. Saligaatsoq illoqarfitsinni pissaaq pingasunngornermi 14 juni 2023 nalunaaqutaq 10:00-15:00. Suliffeqarfiup illoqarfiup iluani immikkut ittumik saliiffissamik kissaateqarussi illoqarfiup assinga atorlugu titartarsinnaavarsi sumerpiaq saliiniarnerlusi. Illoqarfiup assinga uani takuuk. Upernaajunerani saliinermi[..]\nhttps://csr.gl/events/qasigiannguit-saligaatsoq-2023/
URL:https://csr.gl/events/qasigiannguit-saligaatsoq-2023/
END:VEVENT
END:VCALENDAR