BEGIN:VCALENDAR
VERSION:2.0
PRODID:-//eventon.com NONSGML v1.0//EN
BEGIN:VEVENT
UID:69e5993429726
DTSTAMP:20260420T051044
DTSTART:20231107
DTEND:20231107
TZID:America/Godthab
LOCATION:
SUMMARY:IPUK Xpress 2023: Bootcamp 2
DESCRIPTION: GØR DIN FORRETNING FREMTIDSPARAT OG KONKURRENCEDYGTIG MED EN BÆREDYGTIG STRATEGI IPUK XPRESS 2023 er et koncentreret og fokuseret forløb\,  som hjælper dig med at skabe en bæredygtig strategi til gavn for din forretning. Vi hjælper dig med at skabe klarhed over\,  hvad bæredygtighed er for jeres forretning\,  hvor I skal[..]\nhttps://csr.gl/events/ipuk-xpress-2023-bootcamp-2/
URL:https://csr.gl/events/ipuk-xpress-2023-bootcamp-2/
END:VEVENT
END:VCALENDAR