BEGIN:VCALENDAR
VERSION:2.0
PRODID:-//eventon.com NONSGML v1.0//EN
BEGIN:VEVENT
UID:69e57c622a1e6
DTSTAMP:20260420T030746
DTSTART:20231122
DTEND:20231122
TZID:America/Godthab
LOCATION:
SUMMARY:IPUK Xpress 2023: Bootcamp 3
DESCRIPTION: GØR DIN FORRETNING FREMTIDSPARAT OG KONKURRENCEDYGTIG MED EN BÆREDYGTIG STRATEGI IPUK XPRESS 2023 er et koncentreret og fokuseret forløb\,  som hjælper dig med at skabe en bæredygtig strategi til gavn for din forretning. Vi hjælper dig med at skabe klarhed over\,  hvad bæredygtighed er for jeres forretning\,  hvor I skal[..]\nhttps://csr.gl/events/ipuk-xpress-2023-bootcamp-3/
URL:https://csr.gl/events/ipuk-xpress-2023-bootcamp-3/
END:VEVENT
END:VCALENDAR