BEGIN:VCALENDAR
VERSION:2.0
PRODID:-//eventon.com NONSGML v1.0//EN
BEGIN:VEVENT
UID:69e535a5508c8
DTSTAMP:20260419T220557
DTSTART:20240306
DTEND:20240309
TZID:America/Godthab
LOCATION:Ilulissat 
SUMMARY:Bæredygtigheds- & ESG uddannelsen
DESCRIPTION: \nhttps://csr.gl/events/baeredygtigheds-esg-uddannelsen/
URL:https://csr.gl/events/baeredygtigheds-esg-uddannelsen/
END:VEVENT
END:VCALENDAR