BEGIN:VCALENDAR
VERSION:2.0
PRODID:-//eventon.com NONSGML v1.0//EN
BEGIN:VEVENT
UID:69e508a1aa0a1
DTSTAMP:20260419T185353
DTSTART:20241002T120000Z
DTEND:20241002T160000Z
TZID:America/Godthab
LOCATION:Atuarfik Inussuk 
SUMMARY:Siunissaqaasa 2024
DESCRIPTION: Deltag i uddannelsesmessen Siunissaqaasa 2024 Skab opmærksomhed for jeres virksomhed/organisation/ uddannelsesinstitution over for ’fremtidens arbejdskraft’ Se invitationen: HER Tilmelding til Siunissaqaasa 2024: csr@csr.gl\nhttps://csr.gl/events/siunissaqaasa-2024/
URL:https://csr.gl/events/siunissaqaasa-2024/
END:VEVENT
END:VCALENDAR