BEGIN:VCALENDAR
VERSION:2.0
PRODID:-//eventon.com NONSGML v1.0//EN
BEGIN:VEVENT
UID:69e56457f1cf7
DTSTAMP:20260420T012511
DTSTART:20240827
DTEND:20240829
TZID:Europe/Copenhagen
LOCATION:København 
SUMMARY:Studietur 27.-29. august 2024
DESCRIPTION: Deltag i studieturen sammen med virksomheder fra Grønland og Færøerne. Se det spændende program: HER Tilmeld dig til studieturen via csr@csr.gl\nhttps://csr.gl/events/studietur-27-29-august-2024/
URL:https://csr.gl/events/studietur-27-29-august-2024/
END:VEVENT
END:VCALENDAR