BEGIN:VCALENDAR
VERSION:2.0
PRODID:-//eventon.com NONSGML v1.0//EN
BEGIN:VEVENT
UID:69e5b60f8be4a
DTSTAMP:20260420T071351
DTSTART:20241105T110000Z
DTEND:20241107T190000Z
TZID:America/Godthab
LOCATION:Nuuk 
SUMMARY:ESG & Bæredygtighed 1. Modul
DESCRIPTION: ESG & Bæredygtighed Det er 9. gang at CSR Greenland tilbyder dette klassiske bæredygtighedskursus i to moduler for ledere og medarbejdere i alle virksomheder og organisationer. Tid og sted: 1. Modul: 5.-7. november 2024 i Nuuk 2. Modul: 14.-16. januar 2025 i Sisimiut Tilmelding: csr@csr.gl Tilmeldingsfrist: 25. oktober 2024 Flyer\nhttps://csr.gl/events/esg-baeredygtighed/
URL:https://csr.gl/events/esg-baeredygtighed/
END:VEVENT
END:VCALENDAR