BEGIN:VCALENDAR
VERSION:2.0
PRODID:-//eventon.com NONSGML v1.0//EN
BEGIN:VEVENT
UID:69e5d2b4d790e
DTSTAMP:20260420T091604
DTSTART:20241101
DTEND:20241201
TZID:America/Godthab
LOCATION:
SUMMARY:Næste skridt mod CSRD-rapportering
DESCRIPTION: Næste skridt mod CSRD-rapportering Tid og sted: November 2024 – februar 2025 Sted: online Tilmelding: csr@csr.gl Tilmeldingsfrist: 25. oktober 2024 Flyer\nhttps://csr.gl/events/naeste-skridt-mod-csrd-rapportering/
URL:https://csr.gl/events/naeste-skridt-mod-csrd-rapportering/
END:VEVENT
END:VCALENDAR