BEGIN:VCALENDAR
VERSION:2.0
PRODID:-//eventon.com NONSGML v1.0//EN
BEGIN:VEVENT
UID:69e8961a622a4
DTSTAMP:20260422T113418
DTSTART:20241218T161900Z
DTEND:20241218T161900Z
TZID:America/Godthab
LOCATION:Nuuk 
SUMMARY:Mini-MBA med fokus på ESG og Bæredygtighed
DESCRIPTION: TILMELD dig allerede i dag til et mini-MBA med fokus på ESG og bæredygtighed. Læs nærmere om indhold\,  tid og sted i kursusbeskrivelsen. Tilmelding: csr@csr.gl Tilmeldingsfrist: 15. januar 2025\nhttps://csr.gl/events/mini-mba-med-fokus-paa-esg-og-baeredygtighed/
URL:https://csr.gl/events/mini-mba-med-fokus-paa-esg-og-baeredygtighed/
END:VEVENT
END:VCALENDAR