BEGIN:VCALENDAR
VERSION:2.0
PRODID:-//eventon.com NONSGML v1.0//EN
BEGIN:VEVENT
UID:69e8e2b3552fe
DTSTAMP:20260422T170107
DTSTART:20250304T110000Z
DTEND:20250305T190000Z
TZID:America/Godthab
LOCATION:Nuuk 
SUMMARY:Mini-MBA med fokus på ESG og Bæredygtighed
DESCRIPTION: TILMELD dig allerede i dag til et mini-MBA med fokus på ESG og bæredygtighed. Læs nærmere om indhold\,  tid og sted i kursusbeskrivelsen. Tilmelding: csr@csr.gl Tilmeldingsfrist: 15. januar 2025\nhttps://csr.gl/events/mini-mba-med-fokus-paa-esg-og-baeredygtighed-2/
URL:https://csr.gl/events/mini-mba-med-fokus-paa-esg-og-baeredygtighed-2/
END:VEVENT
END:VCALENDAR